Workbook

Sheet 1）応募用紙
A1: 2026 Asia-Pacific Regional Young Professionals Campaign
A3: 1）応募用紙
A5: 氏名①
A6: ②フリガナ(カタカナ)
A7: ③英名 （例:Cathy NORM）
A8: ④敬称 （Mr./Ms./Dr./Prof.）
A9: 年齢（2026年7月6日時点）
A10: 所属企業･団体名
A11: 所属部署･役職名
A12: 所属先所在地（勤務地） （例：東京都港区）
A13: 連絡先①E-mail
A14: ②Tel
... A27: 主催者（SAC）による支援の必要性 (参加にあたり、主催者からの支援の要否について、選択してください。)

Sheet 2）上長の推薦書
A1: 2026 Asia-Pacific Regional Young Professionals Campaign
A3: 2）所属上長の推薦書
A5: 応募者氏名
A6: 応募者の所属上長の氏名
A7: 上長の所属部署・役職名
A8: 上長の連絡先①E-mail
A9: ②Tel
A10: 応募者の業務従事状況
A11: 応募者の国際標準化／適合性評価への関与状況（予定を含む）
A12: 推薦理由、応募者に係る特記事項など

Sheet 入力情報
A1: NO | B1: 氏名 | C1: フリガナ | D1: 英語名 | E1: 敬称 | F1: 年齢 | G1: 企業名 団体名 | H1: 部署・役職名 | I1: 勤務地 | J1: E-mail | K1: TEL | L1: ヤンプロ歴 | M1: 現在の担当職務 | N1: 標準化／適合性評価に関する経験 | O1: 国内委員会の参加経験 | P1: 国際会議の参加経験 | Q1: 関与中のISO/IECのTC/SC | R1: 今後参加予定の国際会議 | S1: 自身の専門性に係る資格・教育歴 | T1: 将来の国際標準化関連活動の計画 | U1: 目指すべきだと考える人物像 | V1: 自己PR | W1: 英語力 | X1: 補助 | Y1: 上長名 | Z1: 上長E-mail | AA1: 上長TEL | AB1: 応募者の業務従事状況 | AC1: 応募者の国際標準化／適合性評価への関与状況 | AD1: 推薦理由、応募者に係る特記事項
A2: 1 | B2: ='1）応募用紙'!$B$5 -> 0 | C2: ='1）応募用紙'!$B$6 -> 0 | D2: ='1）応募用紙'!$B$7 -> 0 | E2: ='1）応募用紙'!$B$8 -> 0 | F2: ='1）応募用紙'!$B$9 -> 0 | G2: ='1）応募用紙'!$B$10 -> 0 | H2: ='1）応募用紙'!$B$11 -> 0 | I2: ='1）応募用紙'!$B$12 -> 0 | J2: ='1）応募用紙'!$B$13 -> 0 | K2: ='1）応募用紙'!$B$14 -> 0 | L2: ='1）応募用紙'!$B$15 -> 0 | M2: ='1）応募用紙'!$B$16 -> 0 | N2: ='1）応募用紙'!$B$17 -> 0 | O2: ='1）応募用紙'!$B$18 -> 0 | P2: ='1）応募用紙'!$B$19 -> 0 | Q2: ='1）応募用紙'!$B$20 -> 0 | R2: ='1）応募用紙'!$B$21 -> 0 | S2: ='1）応募用紙'!$B$22 -> 0 | T2: ='1）応募用紙'!$B$23 -> 0 | U2: ='1）応募用紙'!$B$24 -> 0 | V2: ='1）応募用紙'!$B$25 -> 0 | W2: ='1）応募用紙'!$B$26 -> 0 | X2: ='1）応募用紙'!$B$27 | Y2: ='2）上長の推薦書'!$B$6 -> 0 | Z2: ='2）上長の推薦書'!$B$8 -> 0 | AA2: ='2）上長の推薦書'!$B$9 -> 0 | AB2: ='2）上長の推薦書'!$B$10 -> 0 | AC2: ='2）上長の推薦書'!$B$11 -> 0 | AD2: ='2）上長の推薦書'!$B$12 -> 0
